BEGIN:VCALENDAR
VERSION:2.0
PRODID:-//Contratero//ES
CALSCALE:GREGORIAN
METHOD:PUBLISH
BEGIN:VEVENT
UID:4.20/41110.0210@contratero.es
DTSTAMP:20260421T134946Z
DTSTART:20210413T235959
DTEND:20210414T005959
SUMMARY:Cierre: Mantenimiento y desarrollo de nuevas funcionalidad
DESCRIPTION:Mantenimiento y desarrollo de nuevas funcionalidades en el portal de la dirección de patrimonio y urbanismo (GP\, Tigris y Visor IDEADIF)\\n\\nOrganismo: ADIF - Presidencia\\n\\nVer en Contratero: https://contratero.es/contracts/4.20/41110.0210
URL:https://contratero.es/contracts/4.20/41110.0210
STATUS:CONFIRMED
BEGIN:VALARM
TRIGGER:-P1D
ACTION:DISPLAY
DESCRIPTION:Recordatorio: Mantenimiento y desarrollo de 
END:VALARM
END:VEVENT
END:VCALENDAR