BEGIN:VCALENDAR
VERSION:2.0
PRODID:-//Contratero//ES
CALSCALE:GREGORIAN
METHOD:PUBLISH
BEGIN:VEVENT
UID:4.21/41110.0201@contratero.es
DTSTAMP:20260425T040412Z
DTSTART:20220406T235959
DTEND:20220407T005959
SUMMARY:Cierre: Implantación De Una Solución De Plataforma Para El
DESCRIPTION:Implantación De Una Solución De Plataforma Para El Gobierno Del Dato Y Analítica Avanzada\\n\\nOrganismo: ADIF - Presidencia\\n\\nVer en Contratero: https://contratero.es/contracts/4.21/41110.0201
URL:https://contratero.es/contracts/4.21/41110.0201
STATUS:CONFIRMED
BEGIN:VALARM
TRIGGER:-P1D
ACTION:DISPLAY
DESCRIPTION:Recordatorio: Implantación De Una Solución D
END:VALARM
END:VEVENT
END:VCALENDAR