BEGIN:VCALENDAR
VERSION:2.0
PRODID:-//Contratero//ES
CALSCALE:GREGORIAN
METHOD:PUBLISH
BEGIN:VEVENT
UID:4.22/28520.0118@contratero.es
DTSTAMP:20260423T081011Z
DTSTART:20230127T235959
DTEND:20230128T005959
SUMMARY:Cierre: Mantenimiento integral de los trenes auscultadores
DESCRIPTION:Mantenimiento integral de los trenes auscultadores diesel bt-01 y bt-02\, propiedad de Adif\\n\\nOrganismo: ADIF - Presidencia\\n\\nVer en Contratero: https://contratero.es/contracts/4.22/28520.0118
URL:https://contratero.es/contracts/4.22/28520.0118
STATUS:CONFIRMED
BEGIN:VALARM
TRIGGER:-P1D
ACTION:DISPLAY
DESCRIPTION:Recordatorio: Mantenimiento integral de los 
END:VALARM
END:VEVENT
END:VCALENDAR