BEGIN:VCALENDAR
VERSION:2.0
PRODID:-//Contratero//ES
CALSCALE:GREGORIAN
METHOD:PUBLISH
BEGIN:VEVENT
UID:4.24/24108.0058@contratero.es
DTSTAMP:20260425T135127Z
DTSTART:20240523T235959
DTEND:20240524T005959
SUMMARY:Cierre: Servicio de mantenimiento y cambios evolutivos y a
DESCRIPTION:Servicio de mantenimiento y cambios evolutivos y adaptativos del sistema de información al viajero ELCANO en estaciones de viajeros\\n\\nOrganismo: ADIF - Presidencia\\n\\nVer en Contratero: https://contratero.es/contracts/4.24/24108.0058
URL:https://contratero.es/contracts/4.24/24108.0058
STATUS:CONFIRMED
BEGIN:VALARM
TRIGGER:-P1D
ACTION:DISPLAY
DESCRIPTION:Recordatorio: Servicio de mantenimiento y ca
END:VALARM
END:VEVENT
END:VCALENDAR