BEGIN:VCALENDAR
VERSION:2.0
PRODID:-//Contratero//ES
CALSCALE:GREGORIAN
METHOD:PUBLISH
BEGIN:VEVENT
UID:4036/2021@contratero.es
DTSTAMP:20260423T083227Z
DTSTART:20211117T235959
DTEND:20211118T005959
SUMMARY:Cierre: Servicio para el mantenimiento de las obligaciones
DESCRIPTION:Servicio para el mantenimiento de las obligaciones en materia de protección de datos de carácter personal y servicio de delegado de protección de datos.\\n\\nOrganismo: Alcaldía del Ayuntamiento de Atarfe\\n\\nVer en Contratero: https://contratero.es/contracts/4036/2021
URL:https://contratero.es/contracts/4036/2021
STATUS:CONFIRMED
BEGIN:VALARM
TRIGGER:-P1D
ACTION:DISPLAY
DESCRIPTION:Recordatorio: Servicio para el mantenimiento
END:VALARM
END:VEVENT
END:VCALENDAR