BEGIN:VCALENDAR
VERSION:2.0
PRODID:-//Contratero//ES
CALSCALE:GREGORIAN
METHOD:PUBLISH
BEGIN:VEVENT
UID:404443C@contratero.es
DTSTAMP:20260423T231013Z
DTSTART:20201019T235959
DTEND:20201020T005959
SUMMARY:Cierre: Servicio  de adecuación\, asistencia legal cumplimi
DESCRIPTION:Servicio  de adecuación\, asistencia legal cumplimiento de la normativa del reglamento general de protección de datos y obligaciones de delegado de protección de datos del Ayuntamiento de Albacete y su...\\n\\nOrganismo: Junta de Gobierno del Ayuntamiento de Albacete\\n\\nVer en Contratero: https://contratero.es/contracts/404443C
URL:https://contratero.es/contracts/404443C
STATUS:CONFIRMED
BEGIN:VALARM
TRIGGER:-P1D
ACTION:DISPLAY
DESCRIPTION:Recordatorio: Servicio  de adecuación\, asist
END:VALARM
END:VEVENT
END:VCALENDAR