BEGIN:VCALENDAR
VERSION:2.0
PRODID:-//Contratero//ES
CALSCALE:GREGORIAN
METHOD:PUBLISH
BEGIN:VEVENT
UID:406/2025@contratero.es
DTSTAMP:20260419T163859Z
DTSTART:20250806T235959
DTEND:20250807T005959
SUMMARY:Cierre: El objeto se concreta en el establecimiento de las
DESCRIPTION:El objeto se concreta en el establecimiento de las condiciones para la contratación del servicio de Mantenimiento anual del software de archivos GESAR 2000 para el Ayuntamiento de Lepe.\\n\\nOrganismo: Junta de Gobierno del Ayuntamiento de Lepe\\n\\nVer en Contratero: https://contratero.es/contracts/406/2025
URL:https://contratero.es/contracts/406/2025
STATUS:CONFIRMED
BEGIN:VALARM
TRIGGER:-P1D
ACTION:DISPLAY
DESCRIPTION:Recordatorio: El objeto se concreta en el es
END:VALARM
END:VEVENT
END:VCALENDAR