BEGIN:VCALENDAR
VERSION:2.0
PRODID:-//Contratero//ES
CALSCALE:GREGORIAN
METHOD:PUBLISH
BEGIN:VEVENT
UID:412025@contratero.es
DTSTAMP:20260419T192604Z
DTSTART:20251229T235959
DTEND:20251230T005959
SUMMARY:Cierre: Servicios de hosting y apoyo al mantenimiento del 
DESCRIPTION:Servicios de hosting y apoyo al mantenimiento del portal oficial de promoción turística de España específico para el mercado chino en China Continental para SEGITTUR. Las necesidades a satisfacer se e...\\n\\nOrganismo: Presidencia y Dirección de Administración y Finanzas de la de la Sociedad Mercantil Estatal para la Gestión de la Innovación y las Tecnologías Turísticas\, S.A.M.P. (SEGITTUR)\\n\\nVer en Contratero: https://contratero.es/contracts/412025
URL:https://contratero.es/contracts/412025
STATUS:CONFIRMED
BEGIN:VALARM
TRIGGER:-P1D
ACTION:DISPLAY
DESCRIPTION:Recordatorio: Servicios de hosting y apoyo a
END:VALARM
END:VEVENT
END:VCALENDAR