BEGIN:VCALENDAR
VERSION:2.0
PRODID:-//Contratero//ES
CALSCALE:GREGORIAN
METHOD:PUBLISH
BEGIN:VEVENT
UID:415/2018@contratero.es
DTSTAMP:20260425T040144Z
DTSTART:20200626T235959
DTEND:20200627T005959
SUMMARY:Cierre: Servicios de gestión de infraestructuras y sistema
DESCRIPTION:Servicios de gestión de infraestructuras y sistemas\, transformación digital\, atención de usuarios programación y mantenimiento y modernización de los sistemas de información del Ayuntamiento\\n\\nOrganismo: Junta de Gobierno del Ayuntamiento de Santander\\n\\nVer en Contratero: https://contratero.es/contracts/415/2018
URL:https://contratero.es/contracts/415/2018
STATUS:CONFIRMED
BEGIN:VALARM
TRIGGER:-P1D
ACTION:DISPLAY
DESCRIPTION:Recordatorio: Servicios de gestión de infrae
END:VALARM
END:VEVENT
END:VCALENDAR