BEGIN:VCALENDAR
VERSION:2.0
PRODID:-//Contratero//ES
CALSCALE:GREGORIAN
METHOD:PUBLISH
BEGIN:VEVENT
UID:4155/2023@contratero.es
DTSTAMP:20260420T012739Z
DTSTART:20240116T235959
DTEND:20240117T005959
SUMMARY:Cierre: Creación y mantenimiento de un portal web para el 
DESCRIPTION:Creación y mantenimiento de un portal web para el departamento de turismo.\\n\\nOrganismo: Alcaldía del Ayuntamiento de Béjar\\n\\nVer en Contratero: https://contratero.es/contracts/4155/2023
URL:https://contratero.es/contracts/4155/2023
STATUS:CONFIRMED
BEGIN:VALARM
TRIGGER:-P1D
ACTION:DISPLAY
DESCRIPTION:Recordatorio: Creación y mantenimiento de un
END:VALARM
END:VEVENT
END:VCALENDAR