BEGIN:VCALENDAR
VERSION:2.0
PRODID:-//Contratero//ES
CALSCALE:GREGORIAN
METHOD:PUBLISH
BEGIN:VEVENT
UID:42018@contratero.es
DTSTAMP:20260426T022202Z
DTSTART:20180308T235959
DTEND:20180309T005959
SUMMARY:Cierre: Servicios de apoyo para el desarrollo evolutivo y 
DESCRIPTION:Servicios de apoyo para el desarrollo evolutivo y adaptativo del Sistema de Inteligencia Turístico de SEGITTUR\\n\\nOrganismo: Consejo de Administración de la Sociedad Mercantil Estatal para la Gestión de la Innovación y las Tecnologías Turísticas\, S.A.M.P. (SEGITTUR)\\n\\nVer en Contratero: https://contratero.es/contracts/42018
URL:https://contratero.es/contracts/42018
STATUS:CONFIRMED
BEGIN:VALARM
TRIGGER:-P1D
ACTION:DISPLAY
DESCRIPTION:Recordatorio: Servicios de apoyo para el des
END:VALARM
END:VEVENT
END:VCALENDAR