BEGIN:VCALENDAR
VERSION:2.0
PRODID:-//Contratero//ES
CALSCALE:GREGORIAN
METHOD:PUBLISH
BEGIN:VEVENT
UID:4207/2023@contratero.es
DTSTAMP:20260423T032734Z
DTSTART:20240212T235959
DTEND:20240213T005959
SUMMARY:Cierre: Contratación por parte del Consorcio de Compensaci
DESCRIPTION:Contratación por parte del Consorcio de Compensación de Seguros (en adelante CCS)\, de los servicios de asistencia técnica y apoyo para el mantenimiento de aplicaciones.\\n\\nOrganismo: Consorcio de Compensación de Seguros\\n\\nVer en Contratero: https://contratero.es/contracts/4207/2023
URL:https://contratero.es/contracts/4207/2023
STATUS:CONFIRMED
BEGIN:VALARM
TRIGGER:-P1D
ACTION:DISPLAY
DESCRIPTION:Recordatorio: Contratación por parte del Con
END:VALARM
END:VEVENT
END:VCALENDAR