BEGIN:VCALENDAR
VERSION:2.0
PRODID:-//Contratero//ES
CALSCALE:GREGORIAN
METHOD:PUBLISH
BEGIN:VEVENT
UID:421/2017@contratero.es
DTSTAMP:20260425T181904Z
DTSTART:20180319T235959
DTEND:20180320T005959
SUMMARY:Cierre: Servicio de Apoyo a la Producción\, Catalogación\, G
DESCRIPTION:Servicio de Apoyo a la Producción\, Catalogación\, Gestión y Optimización de Contenidos de la Red de Portales ICEX\\n\\nOrganismo: Consejo de Administración de ICEX España Exportación e Inversiones\, E.P.E.\, M.P.\\n\\nVer en Contratero: https://contratero.es/contracts/421/2017
URL:https://contratero.es/contracts/421/2017
STATUS:CONFIRMED
BEGIN:VALARM
TRIGGER:-P1D
ACTION:DISPLAY
DESCRIPTION:Recordatorio: Servicio de Apoyo a la Producc
END:VALARM
END:VEVENT
END:VCALENDAR