BEGIN:VCALENDAR
VERSION:2.0
PRODID:-//Contratero//ES
CALSCALE:GREGORIAN
METHOD:PUBLISH
BEGIN:VEVENT
UID:422025@contratero.es
DTSTAMP:20260420T155302Z
DTSTART:20260116T235959
DTEND:20260117T005959
SUMMARY:Cierre: Servicios de alojamiento en Cloud sobre Open Journ
DESCRIPTION:Servicios de alojamiento en Cloud sobre Open Journal Systems (OJS) para la publicación digital de la revista estudios turísticos de Turespaña 26-28. Conforme a la recogido en el PLIEGO DE PRESCRIPCION...\\n\\nOrganismo: Presidencia de la Sociedad Mercantil Estatal para la Gestión de la Innovación y las Tecnologías Turísticas\, S.A.M.P. (SEGITTUR)\\n\\nVer en Contratero: https://contratero.es/contracts/422025
URL:https://contratero.es/contracts/422025
STATUS:CONFIRMED
BEGIN:VALARM
TRIGGER:-P1D
ACTION:DISPLAY
DESCRIPTION:Recordatorio: Servicios de alojamiento en Cl
END:VALARM
END:VEVENT
END:VCALENDAR