BEGIN:VCALENDAR
VERSION:2.0
PRODID:-//Contratero//ES
CALSCALE:GREGORIAN
METHOD:PUBLISH
BEGIN:VEVENT
UID:4354/2026@contratero.es
DTSTAMP:20260420T011703Z
DTSTART:20260311T235959
DTEND:20260312T005959
SUMMARY:Cierre: Servicio de implementación y mantenimiento del Sof
DESCRIPTION:Servicio de implementación y mantenimiento del Software de Presupuestos Participativos y Participación Ciudadana del Ayuntamiento de Rivas Vaciamadrid.\\n\\nOrganismo: Junta de Gobierno del Ayuntamiento de Rivas Vaciamadrid\\n\\nVer en Contratero: https://contratero.es/contracts/4354/2026
URL:https://contratero.es/contracts/4354/2026
STATUS:CONFIRMED
BEGIN:VALARM
TRIGGER:-P1D
ACTION:DISPLAY
DESCRIPTION:Recordatorio: Servicio de implementación y m
END:VALARM
END:VEVENT
END:VCALENDAR