BEGIN:VCALENDAR
VERSION:2.0
PRODID:-//Contratero//ES
CALSCALE:GREGORIAN
METHOD:PUBLISH
BEGIN:VEVENT
UID:438/2022@contratero.es
DTSTAMP:20260421T080849Z
DTSTART:20230327T235959
DTEND:20230328T005959
SUMMARY:Cierre: Servicios de consultoría\, análisis\, diseño y espec
DESCRIPTION:Servicios de consultoría\, análisis\, diseño y especificación detallada de requerimientos en materia de fuentes de datos e indicadores de interés para el OTS\, la prospección del mercado de proveedores d...\\n\\nOrganismo: Dirección de la Fundació Mallorca Turisme\\n\\nVer en Contratero: https://contratero.es/contracts/438/2022
URL:https://contratero.es/contracts/438/2022
STATUS:CONFIRMED
BEGIN:VALARM
TRIGGER:-P1D
ACTION:DISPLAY
DESCRIPTION:Recordatorio: Servicios de consultoría\, anál
END:VALARM
END:VEVENT
END:VCALENDAR