BEGIN:VCALENDAR
VERSION:2.0
PRODID:-//Contratero//ES
CALSCALE:GREGORIAN
METHOD:PUBLISH
BEGIN:VEVENT
UID:4394/2025@contratero.es
DTSTAMP:20260421T040000Z
DTSTART:20250915T235959
DTEND:20250916T005959
SUMMARY:Cierre: Seis licencias del software AUTOCAD LT.
DESCRIPTION:Seis licencias del software AUTOCAD LT.\\n\\nOrganismo: Junta de Gobierno del Ayuntamiento de La Unión\\n\\nVer en Contratero: https://contratero.es/contracts/4394/2025
URL:https://contratero.es/contracts/4394/2025
STATUS:CONFIRMED
BEGIN:VALARM
TRIGGER:-P1D
ACTION:DISPLAY
DESCRIPTION:Recordatorio: Seis licencias del software AU
END:VALARM
END:VEVENT
END:VCALENDAR