BEGIN:VCALENDAR
VERSION:2.0
PRODID:-//Contratero//ES
CALSCALE:GREGORIAN
METHOD:PUBLISH
BEGIN:VEVENT
UID:4403/2024@contratero.es
DTSTAMP:20260420T082237Z
DTSTART:20241106T235959
DTEND:20241107T005959
SUMMARY:Cierre: Prestación del servicio de community manager\, admi
DESCRIPTION:Prestación del servicio de community manager\, administrador web y gestor de marketing online para el M.I. Ayuntamiento de El Espinar\\n\\nOrganismo: Junta de Gobierno del Ayuntamiento de El Espinar\\n\\nVer en Contratero: https://contratero.es/contracts/4403/2024
URL:https://contratero.es/contracts/4403/2024
STATUS:CONFIRMED
BEGIN:VALARM
TRIGGER:-P1D
ACTION:DISPLAY
DESCRIPTION:Recordatorio: Prestación del servicio de com
END:VALARM
END:VEVENT
END:VCALENDAR