BEGIN:VCALENDAR
VERSION:2.0
PRODID:-//Contratero//ES
CALSCALE:GREGORIAN
METHOD:PUBLISH
BEGIN:VEVENT
UID:4412/2022@contratero.es
DTSTAMP:20260420T140446Z
DTSTART:20230310T235959
DTEND:20230311T005959
SUMMARY:Cierre: Servicio de hosting y mantenimiento para portales 
DESCRIPTION:Servicio de hosting y mantenimiento para portales web y correos electrónicos del Ayuntamiento de Navalmoral de la Mata\\n\\nOrganismo: Alcaldía del Ayuntamiento de Navalmoral de la Mata\\n\\nVer en Contratero: https://contratero.es/contracts/4412/2022
URL:https://contratero.es/contracts/4412/2022
STATUS:CONFIRMED
BEGIN:VALARM
TRIGGER:-P1D
ACTION:DISPLAY
DESCRIPTION:Recordatorio: Servicio de hosting y mantenim
END:VALARM
END:VEVENT
END:VCALENDAR