BEGIN:VCALENDAR
VERSION:2.0
PRODID:-//Contratero//ES
CALSCALE:GREGORIAN
METHOD:PUBLISH
BEGIN:VEVENT
UID:4458/2024@contratero.es
DTSTAMP:20260420T165402Z
DTSTART:20251021T235959
DTEND:20251022T005959
SUMMARY:Cierre: Suministro\, instalación y mantenimiento de un sist
DESCRIPTION:Suministro\, instalación y mantenimiento de un sistema de cita previa\, gestión de turnos y de espera en las dependencias del Ayuntamiento.\\n\\nOrganismo: Alcaldía del Ayuntamiento de Xàtiva\\n\\nVer en Contratero: https://contratero.es/contracts/4458/2024
URL:https://contratero.es/contracts/4458/2024
STATUS:CONFIRMED
BEGIN:VALARM
TRIGGER:-P1D
ACTION:DISPLAY
DESCRIPTION:Recordatorio: Suministro\, instalación y mant
END:VALARM
END:VEVENT
END:VCALENDAR