BEGIN:VCALENDAR
VERSION:2.0
PRODID:-//Contratero//ES
CALSCALE:GREGORIAN
METHOD:PUBLISH
BEGIN:VEVENT
UID:4460/2024@contratero.es
DTSTAMP:20260422T233354Z
DTSTART:20241212T235959
DTEND:20241213T005959
SUMMARY:Cierre: renovación de licencias de diverso software
DESCRIPTION:renovación de licencias de diverso software\\n\\nOrganismo: Concejalia Delegada de Contratación del Ayuntamiento de Teror\\n\\nVer en Contratero: https://contratero.es/contracts/4460/2024
URL:https://contratero.es/contracts/4460/2024
STATUS:CONFIRMED
BEGIN:VALARM
TRIGGER:-P1D
ACTION:DISPLAY
DESCRIPTION:Recordatorio: renovación de licencias de div
END:VALARM
END:VEVENT
END:VCALENDAR