BEGIN:VCALENDAR
VERSION:2.0
PRODID:-//Contratero//ES
CALSCALE:GREGORIAN
METHOD:PUBLISH
BEGIN:VEVENT
UID:449/2022@contratero.es
DTSTAMP:20260426T004046Z
DTSTART:20220325T235959
DTEND:20220326T005959
SUMMARY:Cierre: Licitación de contrato mixto de suministro y servi
DESCRIPTION:Licitación de contrato mixto de suministro y servicio de asistencia y mantenimiento de plataforma electrónica en materia de contratación pública para el Ayuntamiento de Llanera\\n\\nOrganismo: Concejalía Delegada de Hacienda\, Contratación\, Personal y Modernización Administrativa del Ayuntamiento de Llanera\\n\\nVer en Contratero: https://contratero.es/contracts/449/2022
URL:https://contratero.es/contracts/449/2022
STATUS:CONFIRMED
BEGIN:VALARM
TRIGGER:-P1D
ACTION:DISPLAY
DESCRIPTION:Recordatorio: Licitación de contrato mixto d
END:VALARM
END:VEVENT
END:VCALENDAR