BEGIN:VCALENDAR
VERSION:2.0
PRODID:-//Contratero//ES
CALSCALE:GREGORIAN
METHOD:PUBLISH
BEGIN:VEVENT
UID:44P/24@contratero.es
DTSTAMP:20260423T084001Z
DTSTART:20241004T235959
DTEND:20241005T005959
SUMMARY:Cierre: Soporte técnico y actualizaciones software PROTOPO
DESCRIPTION:Soporte técnico y actualizaciones software PROTOPO\\n\\nOrganismo: Presidencia de la Diputación Provincial de Cuenca\\n\\nVer en Contratero: https://contratero.es/contracts/44P/24
URL:https://contratero.es/contracts/44P/24
STATUS:CONFIRMED
BEGIN:VALARM
TRIGGER:-P1D
ACTION:DISPLAY
DESCRIPTION:Recordatorio: Soporte técnico y actualizacio
END:VALARM
END:VEVENT
END:VCALENDAR