BEGIN:VCALENDAR
VERSION:2.0
PRODID:-//Contratero//ES
CALSCALE:GREGORIAN
METHOD:PUBLISH
BEGIN:VEVENT
UID:45/2025@contratero.es
DTSTAMP:20260419T214510Z
DTSTART:20250805T235959
DTEND:20250806T005959
SUMMARY:Cierre: Suministro y servicios de implantación y mantenimi
DESCRIPTION:Suministro y servicios de implantación y mantenimiento de Plataforma Integral de Administración Electrónica.\\n\\nOrganismo: Junta de Gobierno del Ayuntamiento de Huelva\\n\\nVer en Contratero: https://contratero.es/contracts/45/2025
URL:https://contratero.es/contracts/45/2025
STATUS:CONFIRMED
BEGIN:VALARM
TRIGGER:-P1D
ACTION:DISPLAY
DESCRIPTION:Recordatorio: Suministro y servicios de impl
END:VALARM
END:VEVENT
END:VCALENDAR