BEGIN:VCALENDAR
VERSION:2.0
PRODID:-//Contratero//ES
CALSCALE:GREGORIAN
METHOD:PUBLISH
BEGIN:VEVENT
UID:453/2025@contratero.es
DTSTAMP:20260423T093511Z
DTSTART:20250620T235959
DTEND:20250621T005959
SUMMARY:Cierre: Plataforma para la administración electrónica (Sof
DESCRIPTION:Plataforma para la administración electrónica (Software como sevicio) (2025-2028)\\n\\nOrganismo: Presidencia de la Autoridad Portuaria de Ferrol San Cibrao\\n\\nVer en Contratero: https://contratero.es/contracts/453/2025
URL:https://contratero.es/contracts/453/2025
STATUS:CONFIRMED
BEGIN:VALARM
TRIGGER:-P1D
ACTION:DISPLAY
DESCRIPTION:Recordatorio: Plataforma para la administrac
END:VALARM
END:VEVENT
END:VCALENDAR