BEGIN:VCALENDAR
VERSION:2.0
PRODID:-//Contratero//ES
CALSCALE:GREGORIAN
METHOD:PUBLISH
BEGIN:VEVENT
UID:454/2020-P@contratero.es
DTSTAMP:20260423T054038Z
DTSTART:20200902T235959
DTEND:20200903T005959
SUMMARY:Cierre: Servicios de consultoria en materia de seguridad d
DESCRIPTION:Servicios de consultoria en materia de seguridad de la información y privacidad de acuerdo al esquema nacional de seguridad\, la normativa vigente en materia de protección de datos y los servicios de d...\\n\\nOrganismo: Alcaldía del Ayuntamiento de Badajoz\\n\\nVer en Contratero: https://contratero.es/contracts/454/2020-P
URL:https://contratero.es/contracts/454/2020-P
STATUS:CONFIRMED
BEGIN:VALARM
TRIGGER:-P1D
ACTION:DISPLAY
DESCRIPTION:Recordatorio: Servicios de consultoria en ma
END:VALARM
END:VEVENT
END:VCALENDAR