BEGIN:VCALENDAR
VERSION:2.0
PRODID:-//Contratero//ES
CALSCALE:GREGORIAN
METHOD:PUBLISH
BEGIN:VEVENT
UID:46/2021/CMA@contratero.es
DTSTAMP:20260426T001715Z
DTSTART:20210419T235959
DTEND:20210420T005959
SUMMARY:Cierre: Soporte Sede Electrónica y Tratamiento Electrónico
DESCRIPTION:Soporte Sede Electrónica y Tratamiento Electrónico de datos\\n\\nOrganismo: Consejería de Hacienda de la Ciudad Autónoma de Melilla\\n\\nVer en Contratero: https://contratero.es/contracts/46/2021/CMA
URL:https://contratero.es/contracts/46/2021/CMA
STATUS:CONFIRMED
BEGIN:VALARM
TRIGGER:-P1D
ACTION:DISPLAY
DESCRIPTION:Recordatorio: Soporte Sede Electrónica y Tra
END:VALARM
END:VEVENT
END:VCALENDAR