BEGIN:VCALENDAR
VERSION:2.0
PRODID:-//Contratero//ES
CALSCALE:GREGORIAN
METHOD:PUBLISH
BEGIN:VEVENT
UID:46682Q/2018@contratero.es
DTSTAMP:20260423T201647Z
DTSTART:20190531T235959
DTEND:20190601T005959
SUMMARY:Cierre: Mantenimiento y soporte remoto de servicios de por
DESCRIPTION:Mantenimiento y soporte remoto de servicios de portfolio SCSP\\n\\nOrganismo: Concejalía de Hacienda\, Organización Municipal y Empleo del Ayuntamiento de Gijón\\n\\nVer en Contratero: https://contratero.es/contracts/46682Q/2018
URL:https://contratero.es/contracts/46682Q/2018
STATUS:CONFIRMED
BEGIN:VALARM
TRIGGER:-P1D
ACTION:DISPLAY
DESCRIPTION:Recordatorio: Mantenimiento y soporte remoto
END:VALARM
END:VEVENT
END:VCALENDAR