BEGIN:VCALENDAR
VERSION:2.0
PRODID:-//Contratero//ES
CALSCALE:GREGORIAN
METHOD:PUBLISH
BEGIN:VEVENT
UID:47/25@contratero.es
DTSTAMP:20260420T152621Z
DTSTART:20251112T235959
DTEND:20251113T005959
SUMMARY:Cierre: Renovación de las licencias Zoom necesarias para c
DESCRIPTION:Renovación de las licencias Zoom necesarias para conectar los equipos de las aulas de  videoconferencia utilizadas en la modalidad de estudios Campus Digital Illes\\n\\nOrganismo: Rectorado de la Universidad de les Illes Balears\\n\\nVer en Contratero: https://contratero.es/contracts/47/25
URL:https://contratero.es/contracts/47/25
STATUS:CONFIRMED
BEGIN:VALARM
TRIGGER:-P1D
ACTION:DISPLAY
DESCRIPTION:Recordatorio: Renovación de las licencias Zo
END:VALARM
END:VEVENT
END:VCALENDAR