BEGIN:VCALENDAR
VERSION:2.0
PRODID:-//Contratero//ES
CALSCALE:GREGORIAN
METHOD:PUBLISH
BEGIN:VEVENT
UID:4771/2023@contratero.es
DTSTAMP:20260422T113520Z
DTSTART:20231220T235959
DTEND:20231221T005959
SUMMARY:Cierre: El objeto del contrato lo constituye la prestación
DESCRIPTION:El objeto del contrato lo constituye la prestación de los servicios de soporte de infraestructura tecnológica con dos líneas de servicios (Servicios relacionados con el tratamiento de ficheros -SIR y ...\\n\\nOrganismo: Consorcio de Compensación de Seguros\\n\\nVer en Contratero: https://contratero.es/contracts/4771/2023
URL:https://contratero.es/contracts/4771/2023
STATUS:CONFIRMED
BEGIN:VALARM
TRIGGER:-P1D
ACTION:DISPLAY
DESCRIPTION:Recordatorio: El objeto del contrato lo cons
END:VALARM
END:VEVENT
END:VCALENDAR