BEGIN:VCALENDAR
VERSION:2.0
PRODID:-//Contratero//ES
CALSCALE:GREGORIAN
METHOD:PUBLISH
BEGIN:VEVENT
UID:4813/2025@contratero.es
DTSTAMP:20260419T183054Z
DTSTART:20250728T235959
DTEND:20250729T005959
SUMMARY:Cierre: Servicios de mantenimiento correctivo y evolutivo 
DESCRIPTION:Servicios de mantenimiento correctivo y evolutivo de las tres oficinas electrónicas propiedad del Ayuntamiento de Lepe.\\n\\nOrganismo: Junta de Gobierno del Ayuntamiento de Lepe\\n\\nVer en Contratero: https://contratero.es/contracts/4813/2025
URL:https://contratero.es/contracts/4813/2025
STATUS:CONFIRMED
BEGIN:VALARM
TRIGGER:-P1D
ACTION:DISPLAY
DESCRIPTION:Recordatorio: Servicios de mantenimiento cor
END:VALARM
END:VEVENT
END:VCALENDAR