BEGIN:VCALENDAR
VERSION:2.0
PRODID:-//Contratero//ES
CALSCALE:GREGORIAN
METHOD:PUBLISH
BEGIN:VEVENT
UID:485871X@contratero.es
DTSTAMP:20260424T184120Z
DTSTART:20210305T235959
DTEND:20210306T005959
SUMMARY:Cierre: CON/32/20 - Suministro Adquisición de licencia de 
DESCRIPTION:CON/32/20 - Suministro Adquisición de licencia de uso para las aplicaciones informáticas para la gestión económica\, tributaria\, recaudatoria\, de inspección y de padrón\, así como la implantación\, puest...\\n\\nOrganismo: Junta de Gobierno Local del Ayuntamiento de Jumilla\\n\\nVer en Contratero: https://contratero.es/contracts/485871X
URL:https://contratero.es/contracts/485871X
STATUS:CONFIRMED
BEGIN:VALARM
TRIGGER:-P1D
ACTION:DISPLAY
DESCRIPTION:Recordatorio: CON/32/20 - Suministro Adquisi
END:VALARM
END:VEVENT
END:VCALENDAR