BEGIN:VCALENDAR
VERSION:2.0
PRODID:-//Contratero//ES
CALSCALE:GREGORIAN
METHOD:PUBLISH
BEGIN:VEVENT
UID:4939/2024@contratero.es
DTSTAMP:20260422T011955Z
DTSTART:20250211T235959
DTEND:20250212T005959
SUMMARY:Cierre: Servicios de implantación y mantenimiento del serv
DESCRIPTION:Servicios de implantación y mantenimiento del servicio de hospedaje en nube para el aplicativo de gestión de RR.HH "Monitor de Informática" y base de datos asociadas.\\n\\nOrganismo: Alcaldía del Ayuntamiento de Coín\\n\\nVer en Contratero: https://contratero.es/contracts/4939/2024
URL:https://contratero.es/contracts/4939/2024
STATUS:CONFIRMED
BEGIN:VALARM
TRIGGER:-P1D
ACTION:DISPLAY
DESCRIPTION:Recordatorio: Servicios de implantación y ma
END:VALARM
END:VEVENT
END:VCALENDAR