BEGIN:VCALENDAR
VERSION:2.0
PRODID:-//Contratero//ES
CALSCALE:GREGORIAN
METHOD:PUBLISH
BEGIN:VEVENT
UID:494282D@contratero.es
DTSTAMP:20260419T182931Z
DTSTART:20210506T235959
DTEND:20210507T005959
SUMMARY:Cierre: CON/02/21 - Servicios Asesoría en materia de prote
DESCRIPTION:CON/02/21 - Servicios Asesoría en materia de protección de datos\\n\\nOrganismo: Junta de Gobierno Local del Ayuntamiento de Jumilla\\n\\nVer en Contratero: https://contratero.es/contracts/494282D
URL:https://contratero.es/contracts/494282D
STATUS:CONFIRMED
BEGIN:VALARM
TRIGGER:-P1D
ACTION:DISPLAY
DESCRIPTION:Recordatorio: CON/02/21 - Servicios Asesoría
END:VALARM
END:VEVENT
END:VCALENDAR