BEGIN:VCALENDAR
VERSION:2.0
PRODID:-//Contratero//ES
CALSCALE:GREGORIAN
METHOD:PUBLISH
BEGIN:VEVENT
UID:4957/2021@contratero.es
DTSTAMP:20260423T085642Z
DTSTART:20220210T235959
DTEND:20220211T005959
SUMMARY:Cierre: Digitalizacion archivo municipal Concello de Noia
DESCRIPTION:Digitalizacion archivo municipal Concello de Noia\\n\\nOrganismo: Alcaldía del Ayuntamiento de Noia\\n\\nVer en Contratero: https://contratero.es/contracts/4957/2021
URL:https://contratero.es/contracts/4957/2021
STATUS:CONFIRMED
BEGIN:VALARM
TRIGGER:-P1D
ACTION:DISPLAY
DESCRIPTION:Recordatorio: Digitalizacion archivo municip
END:VALARM
END:VEVENT
END:VCALENDAR