BEGIN:VCALENDAR
VERSION:2.0
PRODID:-//Contratero//ES
CALSCALE:GREGORIAN
METHOD:PUBLISH
BEGIN:VEVENT
UID:497/2022@contratero.es
DTSTAMP:20260420T213023Z
DTSTART:20220328T235959
DTEND:20220329T005959
SUMMARY:Cierre: servicio informático de la aplicación informática 
DESCRIPTION:servicio informático de la aplicación informática "linea verde"\\n\\nOrganismo: Alcaldía del Ayuntamiento de Noja\\n\\nVer en Contratero: https://contratero.es/contracts/497/2022
URL:https://contratero.es/contracts/497/2022
STATUS:CONFIRMED
BEGIN:VALARM
TRIGGER:-P1D
ACTION:DISPLAY
DESCRIPTION:Recordatorio: servicio informático de la apl
END:VALARM
END:VEVENT
END:VCALENDAR