BEGIN:VCALENDAR
VERSION:2.0
PRODID:-//Contratero//ES
CALSCALE:GREGORIAN
METHOD:PUBLISH
BEGIN:VEVENT
UID:5/2022-SPD-ST@contratero.es
DTSTAMP:20260422T194313Z
DTSTART:20220418T235959
DTEND:20220419T005959
SUMMARY:Cierre: El contrato tiene por objeto proveer a la empresa 
DESCRIPTION:El contrato tiene por objeto proveer a la empresa SEPIDES\, incluido sus delegaciones y las filiales indicadas en la presente licitación de los servicios de asistencia técnicas para las comunicaciones ...\\n\\nOrganismo: SEPI Desarrollo Empresarial S.A.\, S.M.E.\\n\\nVer en Contratero: https://contratero.es/contracts/5/2022-SPD-ST
URL:https://contratero.es/contracts/5/2022-SPD-ST
STATUS:CONFIRMED
BEGIN:VALARM
TRIGGER:-P1D
ACTION:DISPLAY
DESCRIPTION:Recordatorio: El contrato tiene por objeto p
END:VALARM
END:VEVENT
END:VCALENDAR