BEGIN:VCALENDAR
VERSION:2.0
PRODID:-//Contratero//ES
CALSCALE:GREGORIAN
METHOD:PUBLISH
BEGIN:VEVENT
UID:5/2026@contratero.es
DTSTAMP:20260420T071808Z
DTSTART:20260216T235959
DTEND:20260217T005959
SUMMARY:Cierre: Servicio de desarrollo de guías interactivas y pla
DESCRIPTION:Servicio de desarrollo de guías interactivas y planificación personalizadas de rutas turísticas del Municipio de Los Realejos ( Tenerife)\, por procedimiento abierto simplificado sumario con varios cri...\\n\\nOrganismo: Gestión de Proyectos y Estudios Turísticos en Canarias S.A.U. MP\\n\\nVer en Contratero: https://contratero.es/contracts/5/2026
URL:https://contratero.es/contracts/5/2026
STATUS:CONFIRMED
BEGIN:VALARM
TRIGGER:-P1D
ACTION:DISPLAY
DESCRIPTION:Recordatorio: Servicio de desarrollo de guía
END:VALARM
END:VEVENT
END:VCALENDAR