BEGIN:VCALENDAR
VERSION:2.0
PRODID:-//Contratero//ES
CALSCALE:GREGORIAN
METHOD:PUBLISH
BEGIN:VEVENT
UID:500088236900@contratero.es
DTSTAMP:20260423T045558Z
DTSTART:20190123T235959
DTEND:20190124T005959
SUMMARY:Cierre: Modificación del psp\, io y calval para nuevos modo
DESCRIPTION:Modificación del psp\, io y calval para nuevos modos paz y mantenimiento\\n\\nOrganismo: Dirección General del INTA M.P.\\n\\nVer en Contratero: https://contratero.es/contracts/500088236900
URL:https://contratero.es/contracts/500088236900
STATUS:CONFIRMED
BEGIN:VALARM
TRIGGER:-P1D
ACTION:DISPLAY
DESCRIPTION:Recordatorio: Modificación del psp\, io y cal
END:VALARM
END:VEVENT
END:VCALENDAR