BEGIN:VCALENDAR
VERSION:2.0
PRODID:-//Contratero//ES
CALSCALE:GREGORIAN
METHOD:PUBLISH
BEGIN:VEVENT
UID:500089122100@contratero.es
DTSTAMP:20260423T045618Z
DTSTART:20200210T235959
DTEND:20200211T005959
SUMMARY:Cierre: Mantenimiento 2020 subsistemas arf\, fmc\, pds\, sec 
DESCRIPTION:Mantenimiento 2020 subsistemas arf\, fmc\, pds\, sec y seguridad tic st  de paz\\n\\nOrganismo: Dirección General del INTA M.P.\\n\\nVer en Contratero: https://contratero.es/contracts/500089122100
URL:https://contratero.es/contracts/500089122100
STATUS:CONFIRMED
BEGIN:VALARM
TRIGGER:-P1D
ACTION:DISPLAY
DESCRIPTION:Recordatorio: Mantenimiento 2020 subsistemas
END:VALARM
END:VEVENT
END:VCALENDAR