BEGIN:VCALENDAR
VERSION:2.0
PRODID:-//Contratero//ES
CALSCALE:GREGORIAN
METHOD:PUBLISH
BEGIN:VEVENT
UID:508/2025/CMA@contratero.es
DTSTAMP:20260421T055857Z
DTSTART:20260312T235959
DTEND:20260313T005959
SUMMARY:Cierre: Creación del sistema de información de vigilancia 
DESCRIPTION:Creación del sistema de información de vigilancia de la salud mental\\n\\nOrganismo: Consejería de Hacienda de la Ciudad Autónoma de Melilla\\n\\nVer en Contratero: https://contratero.es/contracts/508/2025/CMA
URL:https://contratero.es/contracts/508/2025/CMA
STATUS:CONFIRMED
BEGIN:VALARM
TRIGGER:-P1D
ACTION:DISPLAY
DESCRIPTION:Recordatorio: Creación del sistema de inform
END:VALARM
END:VEVENT
END:VCALENDAR