BEGIN:VCALENDAR
VERSION:2.0
PRODID:-//Contratero//ES
CALSCALE:GREGORIAN
METHOD:PUBLISH
BEGIN:VEVENT
UID:51/2021@contratero.es
DTSTAMP:20260421T071541Z
DTSTART:20211220T235959
DTEND:20211221T005959
SUMMARY:Cierre: Servicios informáticos para la gestión de inspecci
DESCRIPTION:Servicios informáticos para la gestión de inspecciones técnicas de edificios (ITES) del Ayuntamiento de Ávila según pliego de condiciones administrativas y técnicas que figura como Anexo IV\\n\\nOrganismo: Junta de Gobierno Local del Ayuntamiento de Ávila\\n\\nVer en Contratero: https://contratero.es/contracts/51/2021
URL:https://contratero.es/contracts/51/2021
STATUS:CONFIRMED
BEGIN:VALARM
TRIGGER:-P1D
ACTION:DISPLAY
DESCRIPTION:Recordatorio: Servicios informáticos para la
END:VALARM
END:VEVENT
END:VCALENDAR