BEGIN:VCALENDAR
VERSION:2.0
PRODID:-//Contratero//ES
CALSCALE:GREGORIAN
METHOD:PUBLISH
BEGIN:VEVENT
UID:5100019783@contratero.es
DTSTAMP:20260419T144026Z
DTSTART:20240802T235959
DTEND:20240803T005959
SUMMARY:Cierre: Acuerdo Marco de Servicios de Ingeniería de Produc
DESCRIPTION:Acuerdo Marco de Servicios de Ingeniería de Producción y Planificación de Navantia Seanergies\\n\\nOrganismo: Comité Central de Compras de Navantia S.A.\, S.M.E.\\n\\nVer en Contratero: https://contratero.es/contracts/5100019783
URL:https://contratero.es/contracts/5100019783
STATUS:CONFIRMED
BEGIN:VALARM
TRIGGER:-P1D
ACTION:DISPLAY
DESCRIPTION:Recordatorio: Acuerdo Marco de Servicios de 
END:VALARM
END:VEVENT
END:VCALENDAR