BEGIN:VCALENDAR
VERSION:2.0
PRODID:-//Contratero//ES
CALSCALE:GREGORIAN
METHOD:PUBLISH
BEGIN:VEVENT
UID:5179/2025@contratero.es
DTSTAMP:20260421T080918Z
DTSTART:20251203T235959
DTEND:20251204T005959
SUMMARY:Cierre: Servicio de mantenimiento de la plataforma automat
DESCRIPTION:Servicio de mantenimiento de la plataforma automatizada de accesibilidad y usabilidad\, en modalidad SaaS\, para las webs del Ayuntamiento de Alboraya\\n\\nOrganismo: Junta de Gobierno del Ayuntamiento de Alboraya\\n\\nVer en Contratero: https://contratero.es/contracts/5179/2025
URL:https://contratero.es/contracts/5179/2025
STATUS:CONFIRMED
BEGIN:VALARM
TRIGGER:-P1D
ACTION:DISPLAY
DESCRIPTION:Recordatorio: Servicio de mantenimiento de l
END:VALARM
END:VEVENT
END:VCALENDAR