BEGIN:VCALENDAR
VERSION:2.0
PRODID:-//Contratero//ES
CALSCALE:GREGORIAN
METHOD:PUBLISH
BEGIN:VEVENT
UID:52/18.2@contratero.es
DTSTAMP:20260424T092255Z
DTSTART:20220223T235959
DTEND:20220224T005959
SUMMARY:Cierre: PRÓRROGA. Servicio de mantenimiento del sistema in
DESCRIPTION:PRÓRROGA. Servicio de mantenimiento del sistema informático de gestión de actividades de mayores (DEPORWIN)\\n\\nOrganismo: Junta de Gobierno del Ayuntamiento de San Sebastián de los Reyes\\n\\nVer en Contratero: https://contratero.es/contracts/52/18.2
URL:https://contratero.es/contracts/52/18.2
STATUS:CONFIRMED
BEGIN:VALARM
TRIGGER:-P1D
ACTION:DISPLAY
DESCRIPTION:Recordatorio: PRÓRROGA. Servicio de mantenim
END:VALARM
END:VEVENT
END:VCALENDAR