BEGIN:VCALENDAR
VERSION:2.0
PRODID:-//Contratero//ES
CALSCALE:GREGORIAN
METHOD:PUBLISH
BEGIN:VEVENT
UID:52/2023@contratero.es
DTSTAMP:20260422T143733Z
DTSTART:20230425T235959
DTEND:20230426T005959
SUMMARY:Cierre: Servicios de desarrollo\, implantación\, soporte y r
DESCRIPTION:Servicios de desarrollo\, implantación\, soporte y reingeniería del sistema de información vacunal (SIV) de la Conselleria de Sanitat Universal i Salut Pública\\n\\nOrganismo: Dirección General de Gestión Económica\, Contratación e Infraestructuras de la Conselleria de Sanidad\\n\\nVer en Contratero: https://contratero.es/contracts/52/2023
URL:https://contratero.es/contracts/52/2023
STATUS:CONFIRMED
BEGIN:VALARM
TRIGGER:-P1D
ACTION:DISPLAY
DESCRIPTION:Recordatorio: Servicios de desarrollo\, impla
END:VALARM
END:VEVENT
END:VCALENDAR