BEGIN:VCALENDAR
VERSION:2.0
PRODID:-//Contratero//ES
CALSCALE:GREGORIAN
METHOD:PUBLISH
BEGIN:VEVENT
UID:52/GE23@contratero.es
DTSTAMP:20260422T130403Z
DTSTART:20230428T235959
DTEND:20230429T005959
SUMMARY:Cierre: Servicios auxiliares para el mantenimiento de chat
DESCRIPTION:Servicios auxiliares para el mantenimiento de chatbots de la web del Organismo Autónomo de Gestión Económica y Recaudación\\n\\nOrganismo: Presidencia del Organismo Autónomo de Gestión Económica y Recaudación del Excmo. Ayuntamiento de Salamanca (O.A.G.E.R.)\\n\\nVer en Contratero: https://contratero.es/contracts/52/GE23
URL:https://contratero.es/contracts/52/GE23
STATUS:CONFIRMED
BEGIN:VALARM
TRIGGER:-P1D
ACTION:DISPLAY
DESCRIPTION:Recordatorio: Servicios auxiliares para el m
END:VALARM
END:VEVENT
END:VCALENDAR