BEGIN:VCALENDAR
VERSION:2.0
PRODID:-//Contratero//ES
CALSCALE:GREGORIAN
METHOD:PUBLISH
BEGIN:VEVENT
UID:52/S/21/SS/GE/N/055.@contratero.es
DTSTAMP:20260423T051046Z
DTSTART:20210304T235959
DTEND:20210305T005959
SUMMARY:Cierre: Servicio de mantenimiento y soporte con licencia d
DESCRIPTION:Servicio de mantenimiento y soporte con licencia de uso del software decisys-apr con destino a distintos servicios del Hospital Doctor José Molina Orosa\\n\\nOrganismo: Gerencia de Servicios Sanitarios del Área de Salud de Lanzarote\\n\\nVer en Contratero: https://contratero.es/contracts/52/S/21/SS/GE/N/055.
URL:https://contratero.es/contracts/52/S/21/SS/GE/N/055.
STATUS:CONFIRMED
BEGIN:VALARM
TRIGGER:-P1D
ACTION:DISPLAY
DESCRIPTION:Recordatorio: Servicio de mantenimiento y so
END:VALARM
END:VEVENT
END:VCALENDAR