BEGIN:VCALENDAR
VERSION:2.0
PRODID:-//Contratero//ES
CALSCALE:GREGORIAN
METHOD:PUBLISH
BEGIN:VEVENT
UID:521/2021@contratero.es
DTSTAMP:20260425T124759Z
DTSTART:20210323T235959
DTEND:20210324T005959
SUMMARY:Cierre: Mantenimiento Thanatos: Gestion de Cementerios
DESCRIPTION:Mantenimiento Thanatos: Gestion de Cementerios\\n\\nOrganismo: Alcaldía del Ayuntamiento de Ugena\\n\\nVer en Contratero: https://contratero.es/contracts/521/2021
URL:https://contratero.es/contracts/521/2021
STATUS:CONFIRMED
BEGIN:VALARM
TRIGGER:-P1D
ACTION:DISPLAY
DESCRIPTION:Recordatorio: Mantenimiento Thanatos: Gestio
END:VALARM
END:VEVENT
END:VCALENDAR