BEGIN:VCALENDAR
VERSION:2.0
PRODID:-//Contratero//ES
CALSCALE:GREGORIAN
METHOD:PUBLISH
BEGIN:VEVENT
UID:525/2023@contratero.es
DTSTAMP:20260424T221655Z
DTSTART:20240603T235959
DTEND:20240604T005959
SUMMARY:Cierre: Servizo de asistencia técnica informática do Conce
DESCRIPTION:Servizo de asistencia técnica informática do Concello de Xermade\\n\\nOrganismo: Junta de Gobierno Local del Ayuntamiento de Xermade\\n\\nVer en Contratero: https://contratero.es/contracts/525/2023
URL:https://contratero.es/contracts/525/2023
STATUS:CONFIRMED
BEGIN:VALARM
TRIGGER:-P1D
ACTION:DISPLAY
DESCRIPTION:Recordatorio: Servizo de asistencia técnica 
END:VALARM
END:VEVENT
END:VCALENDAR